Package: SpatialOmicsOverlay Version: 1.7.0 Command: /home/biocbuild/bbs-3.21-bioc/R/bin/R CMD INSTALL SpatialOmicsOverlay StartedAt: 2025-02-04 15:14:35 -0500 (Tue, 04 Feb 2025) EndedAt: 2025-02-04 15:15:05 -0500 (Tue, 04 Feb 2025) EllapsedTime: 29.7 seconds RetCode: 0 Status: OK