Package: SpatialOmicsOverlay Version: 1.7.0 Command: rm -rf SpatialOmicsOverlay.buildbin-libdir && mkdir SpatialOmicsOverlay.buildbin-libdir && E:\biocbuild\bbs-3.21-bioc\R\bin\R.exe CMD INSTALL --build --library=SpatialOmicsOverlay.buildbin-libdir SpatialOmicsOverlay_1.7.0.tar.gz StartedAt: 2025-02-05 08:59:00 -0500 (Wed, 05 Feb 2025) EndedAt: 2025-02-05 09:03:09 -0500 (Wed, 05 Feb 2025) EllapsedTime: 248.2 seconds RetCode: 0 Status: OK PackageFile: SpatialOmicsOverlay_1.7.0.zip PackageFileSize: 4.496 MiB