Package: SpatialOmicsOverlay Version: 1.7.0 Command: chmod a+r SpatialOmicsOverlay -R && E:\biocbuild\bbs-3.21-bioc\R\bin\R.exe CMD build --keep-empty-dirs --no-resave-data SpatialOmicsOverlay StartedAt: 2025-02-04 21:52:02 -0500 (Tue, 04 Feb 2025) EndedAt: 2025-02-04 22:02:30 -0500 (Tue, 04 Feb 2025) EllapsedTime: 628.2 seconds RetCode: 0 Status: OK PackageFile: SpatialOmicsOverlay_1.7.0.tar.gz PackageFileSize: 4.307 MiB