Package: SpatialOmicsOverlay Version: 1.7.0 Command: E:\biocbuild\bbs-3.21-bioc\R\bin\R.exe CMD check --no-multiarch --install=check:SpatialOmicsOverlay.install-out.txt --library=E:\biocbuild\bbs-3.21-bioc\R\library --no-vignettes --timings SpatialOmicsOverlay_1.7.0.tar.gz StartedAt: 2025-02-05 06:06:39 -0500 (Wed, 05 Feb 2025) EndedAt: 2025-02-05 06:16:34 -0500 (Wed, 05 Feb 2025) EllapsedTime: 594.3 seconds RetCode: 0 Status: OK CheckDir: SpatialOmicsOverlay.Rcheck Warnings: 0