Package: SpatialOmicsOverlay Version: 1.7.0 Command: E:\biocbuild\bbs-3.21-bioc\R\bin\R.exe CMD INSTALL SpatialOmicsOverlay StartedAt: 2025-02-04 15:56:54 -0500 (Tue, 04 Feb 2025) EndedAt: 2025-02-04 15:58:23 -0500 (Tue, 04 Feb 2025) EllapsedTime: 88.5 seconds RetCode: 0 Status: OK