Package: SpeCond Version: 1.61.0 Command: rm -rf SpeCond.buildbin-libdir && mkdir SpeCond.buildbin-libdir && /Users/biocbuild/BBS/utils/build-universal.sh SpeCond_1.61.0.tar.gz /Library/Frameworks/R.framework/Resources/bin/R SpeCond.buildbin-libdir StartedAt: 2025-02-10 01:18:26 -0500 (Mon, 10 Feb 2025) EndedAt: 2025-02-10 01:18:38 -0500 (Mon, 10 Feb 2025) EllapsedTime: 12.8 seconds RetCode: 0 Status: OK PackageFile: SpeCond_1.61.0.tgz PackageFileSize: 1.197 MiB