Package: SpeCond Version: 1.61.0 Command: /Library/Frameworks/R.framework/Resources/bin/R CMD check --install=check:SpeCond.install-out.txt --library=/Library/Frameworks/R.framework/Resources/library --no-vignettes --timings SpeCond_1.61.0.tar.gz StartedAt: 2025-02-09 23:49:33 -0500 (Sun, 09 Feb 2025) EndedAt: 2025-02-09 23:51:05 -0500 (Sun, 09 Feb 2025) EllapsedTime: 92.9 seconds RetCode: 0 Status: OK CheckDir: SpeCond.Rcheck Warnings: 0