Package: SpeCond Version: 1.61.0 Command: rm -rf SpeCond.buildbin-libdir && mkdir SpeCond.buildbin-libdir && E:\biocbuild\bbs-3.21-bioc\R\bin\R.exe CMD INSTALL --build --library=SpeCond.buildbin-libdir SpeCond_1.61.0.tar.gz StartedAt: 2025-02-10 08:47:02 -0500 (Mon, 10 Feb 2025) EndedAt: 2025-02-10 08:47:32 -0500 (Mon, 10 Feb 2025) EllapsedTime: 30.0 seconds RetCode: 0 Status: OK PackageFile: SpeCond_1.61.0.zip PackageFileSize: 1.2 MiB