Package: SpeCond Version: 1.61.0 Command: chmod a+r SpeCond -R && E:\biocbuild\bbs-3.21-bioc\R\bin\R.exe CMD build --keep-empty-dirs --no-resave-data SpeCond StartedAt: 2025-02-09 21:50:09 -0500 (Sun, 09 Feb 2025) EndedAt: 2025-02-09 21:51:20 -0500 (Sun, 09 Feb 2025) EllapsedTime: 70.3 seconds RetCode: 0 Status: OK PackageFile: SpeCond_1.61.0.tar.gz PackageFileSize: 1.701 MiB