Package: SpeCond Version: 1.61.0 Command: E:\biocbuild\bbs-3.21-bioc\R\bin\R.exe CMD INSTALL SpeCond StartedAt: 2025-02-09 15:32:26 -0500 (Sun, 09 Feb 2025) EndedAt: 2025-02-09 15:32:50 -0500 (Sun, 09 Feb 2025) EllapsedTime: 23.9 seconds RetCode: 0 Status: OK