Package: Spectra Version: 1.17.5 Command: /home/biocbuild/R/R/bin/R CMD build --keep-empty-dirs --no-resave-data Spectra StartedAt: 2025-01-28 02:40:11 -0000 (Tue, 28 Jan 2025) EndedAt: 2025-01-28 02:41:32 -0000 (Tue, 28 Jan 2025) EllapsedTime: 81.0 seconds RetCode: 0 Status: OK PackageFile: Spectra_1.17.5.tar.gz PackageFileSize: 1.637 MiB