Package: Spectra Version: 1.17.5 Command: /home/biocbuild/R/R/bin/R CMD check --install=check:Spectra.install-out.txt --library=/home/biocbuild/R/R/site-library --no-vignettes --timings Spectra_1.17.5.tar.gz StartedAt: 2025-01-28 15:38:13 -0000 (Tue, 28 Jan 2025) EndedAt: 2025-01-28 15:49:07 -0000 (Tue, 28 Jan 2025) EllapsedTime: 653.7 seconds RetCode: 0 Status: OK CheckDir: Spectra.Rcheck Warnings: 0