Package: Spectra Version: 1.17.5 Command: /Library/Frameworks/R.framework/Resources/bin/R CMD build --keep-empty-dirs --no-resave-data Spectra StartedAt: 2025-02-04 18:25:48 -0500 (Tue, 04 Feb 2025) EndedAt: 2025-02-04 18:27:06 -0500 (Tue, 04 Feb 2025) EllapsedTime: 77.5 seconds RetCode: 0 Status: OK PackageFile: Spectra_1.17.5.tar.gz PackageFileSize: 1.507 MiB