Package: Spectra Version: 1.17.5 Command: /Library/Frameworks/R.framework/Resources/bin/R CMD check --install=check:Spectra.install-out.txt --library=/Library/Frameworks/R.framework/Resources/library --no-vignettes --timings Spectra_1.17.5.tar.gz StartedAt: 2025-02-04 23:30:43 -0500 (Tue, 04 Feb 2025) EndedAt: 2025-02-04 23:39:34 -0500 (Tue, 04 Feb 2025) EllapsedTime: 530.7 seconds RetCode: 0 Status: OK CheckDir: Spectra.Rcheck Warnings: 0