Package: Spectra Version: 1.17.5 Command: /Library/Frameworks/R.framework/Resources/bin/R CMD INSTALL Spectra StartedAt: 2025-02-04 15:13:42 -0500 (Tue, 04 Feb 2025) EndedAt: 2025-02-04 15:14:02 -0500 (Tue, 04 Feb 2025) EllapsedTime: 20.4 seconds RetCode: 0 Status: OK