Package: Spectra Version: 1.17.5 Command: /home/biocbuild/bbs-3.21-bioc/R/bin/R CMD INSTALL Spectra StartedAt: 2025-02-04 15:12:37 -0500 (Tue, 04 Feb 2025) EndedAt: 2025-02-04 15:12:55 -0500 (Tue, 04 Feb 2025) EllapsedTime: 18.1 seconds RetCode: 0 Status: OK