Package: Spectra Version: 1.17.5 Command: chmod a+r Spectra -R && E:\biocbuild\bbs-3.21-bioc\R\bin\R.exe CMD build --keep-empty-dirs --no-resave-data Spectra StartedAt: 2025-02-09 21:50:44 -0500 (Sun, 09 Feb 2025) EndedAt: 2025-02-09 21:53:11 -0500 (Sun, 09 Feb 2025) EllapsedTime: 146.7 seconds RetCode: 0 Status: OK PackageFile: Spectra_1.17.5.tar.gz PackageFileSize: 1.4 MiB