Package: Spectra Version: 1.17.5 Command: E:\biocbuild\bbs-3.21-bioc\R\bin\R.exe CMD check --no-multiarch --install=check:Spectra.install-out.txt --library=E:\biocbuild\bbs-3.21-bioc\R\library --no-vignettes --timings Spectra_1.17.5.tar.gz StartedAt: 2025-02-10 05:45:23 -0500 (Mon, 10 Feb 2025) EndedAt: 2025-02-10 05:58:49 -0500 (Mon, 10 Feb 2025) EllapsedTime: 805.9 seconds RetCode: 0 Status: OK CheckDir: Spectra.Rcheck Warnings: 0