Package: SpectralTAD Version: 1.23.0 Command: /Library/Frameworks/R.framework/Resources/bin/R CMD INSTALL SpectralTAD StartedAt: 2025-02-12 15:08:58 -0500 (Wed, 12 Feb 2025) EndedAt: 2025-02-12 15:09:02 -0500 (Wed, 12 Feb 2025) EllapsedTime: 4.3 seconds RetCode: 0 Status: OK