Package: SpectralTAD Version: 1.23.0 Command: /home/biocbuild/R/R/bin/R CMD build --keep-empty-dirs --no-resave-data SpectralTAD StartedAt: 2025-01-28 02:40:17 -0000 (Tue, 28 Jan 2025) EndedAt: 2025-01-28 02:42:44 -0000 (Tue, 28 Jan 2025) EllapsedTime: 147.1 seconds RetCode: 0 Status: OK PackageFile: SpectralTAD_1.23.0.tar.gz PackageFileSize: 1.515 MiB