Package: SpectralTAD Version: 1.23.0 Command: /home/biocbuild/R/R/bin/R CMD INSTALL SpectralTAD StartedAt: 2025-01-29 19:46:38 -0000 (Wed, 29 Jan 2025) EndedAt: 2025-01-29 19:46:53 -0000 (Wed, 29 Jan 2025) EllapsedTime: 15.1 seconds RetCode: 0 Status: OK