Package: SpectralTAD Version: 1.23.0 Command: /Library/Frameworks/R.framework/Resources/bin/R CMD check --install=check:SpectralTAD.install-out.txt --library=/Library/Frameworks/R.framework/Resources/library --no-vignettes --timings SpectralTAD_1.23.0.tar.gz StartedAt: 2025-02-09 23:50:03 -0500 (Sun, 09 Feb 2025) EndedAt: 2025-02-09 23:52:26 -0500 (Sun, 09 Feb 2025) EllapsedTime: 142.5 seconds RetCode: 0 Status: OK CheckDir: SpectralTAD.Rcheck Warnings: 0