Package: SpectralTAD Version: 1.23.0 Command: /home/biocbuild/bbs-3.21-bioc/R/bin/R CMD check --install=check:SpectralTAD.install-out.txt --library=/home/biocbuild/bbs-3.21-bioc/R/site-library --timings SpectralTAD_1.23.0.tar.gz StartedAt: 2025-02-10 02:57:31 -0500 (Mon, 10 Feb 2025) EndedAt: 2025-02-10 03:01:05 -0500 (Mon, 10 Feb 2025) EllapsedTime: 214.2 seconds RetCode: 0 Status: OK CheckDir: SpectralTAD.Rcheck Warnings: 0