Package: SpectralTAD Version: 1.23.0 Command: rm -rf SpectralTAD.buildbin-libdir && mkdir SpectralTAD.buildbin-libdir && E:\biocbuild\bbs-3.21-bioc\R\bin\R.exe CMD INSTALL --build --library=SpectralTAD.buildbin-libdir SpectralTAD_1.23.0.tar.gz StartedAt: 2025-02-10 08:47:17 -0500 (Mon, 10 Feb 2025) EndedAt: 2025-02-10 08:47:42 -0500 (Mon, 10 Feb 2025) EllapsedTime: 25.3 seconds RetCode: 0 Status: OK PackageFile: SpectralTAD_1.23.0.zip PackageFileSize: 1.48 MiB