Package: SplicingGraphs Version: 1.47.0 Command: rm -rf SplicingGraphs.buildbin-libdir && mkdir SplicingGraphs.buildbin-libdir && /Users/biocbuild/BBS/utils/build-universal.sh SplicingGraphs_1.47.0.tar.gz /Library/Frameworks/R.framework/Resources/bin/R SplicingGraphs.buildbin-libdir StartedAt: 2025-02-09 22:32:14 -0500 (Sun, 09 Feb 2025) EndedAt: 2025-02-09 22:32:33 -0500 (Sun, 09 Feb 2025) EllapsedTime: 18.4 seconds RetCode: 0 Status: OK PackageFile: SplicingGraphs_1.47.0.tgz PackageFileSize: 4.822 MiB