Package: SplicingGraphs Version: 1.47.0 Command: /Library/Frameworks/R.framework/Resources/bin/R CMD INSTALL SplicingGraphs StartedAt: 2025-02-04 15:09:44 -0500 (Tue, 04 Feb 2025) EndedAt: 2025-02-04 15:10:00 -0500 (Tue, 04 Feb 2025) EllapsedTime: 15.6 seconds RetCode: 0 Status: OK