Package: SplicingGraphs Version: 1.47.0 Command: /home/biocbuild/R/R/bin/R CMD INSTALL SplicingGraphs StartedAt: 2025-01-29 19:52:19 -0000 (Wed, 29 Jan 2025) EndedAt: 2025-01-29 19:53:16 -0000 (Wed, 29 Jan 2025) EllapsedTime: 57.7 seconds RetCode: 0 Status: OK