Package: SplicingGraphs Version: 1.47.0 Command: rm -rf SplicingGraphs.buildbin-libdir && mkdir SplicingGraphs.buildbin-libdir && /Users/biocbuild/BBS/utils/build-universal.sh SplicingGraphs_1.47.0.tar.gz /Library/Frameworks/R.framework/Resources/bin/R SplicingGraphs.buildbin-libdir StartedAt: 2025-02-10 01:18:40 -0500 (Mon, 10 Feb 2025) EndedAt: 2025-02-10 01:19:41 -0500 (Mon, 10 Feb 2025) EllapsedTime: 61.6 seconds RetCode: 0 Status: OK PackageFile: SplicingGraphs_1.47.0.tgz PackageFileSize: 4.821 MiB