Package: SplicingGraphs Version: 1.47.0 Command: /Library/Frameworks/R.framework/Resources/bin/R CMD INSTALL SplicingGraphs StartedAt: 2025-02-09 15:20:28 -0500 (Sun, 09 Feb 2025) EndedAt: 2025-02-09 15:21:24 -0500 (Sun, 09 Feb 2025) EllapsedTime: 55.9 seconds RetCode: 0 Status: OK