Package: SplicingGraphs Version: 1.47.0 Command: /home/biocbuild/bbs-3.21-bioc/R/bin/R CMD build --keep-empty-dirs --no-resave-data SplicingGraphs StartedAt: 2025-02-09 19:26:04 -0500 (Sun, 09 Feb 2025) EndedAt: 2025-02-09 19:28:37 -0500 (Sun, 09 Feb 2025) EllapsedTime: 153.2 seconds RetCode: 0 Status: OK PackageFile: SplicingGraphs_1.47.0.tar.gz PackageFileSize: 46.1 MiB