Package: SplicingGraphs Version: 1.47.0 Command: rm -rf SplicingGraphs.buildbin-libdir && mkdir SplicingGraphs.buildbin-libdir && E:\biocbuild\bbs-3.21-bioc\R\bin\R.exe CMD INSTALL --build --library=SplicingGraphs.buildbin-libdir SplicingGraphs_1.47.0.tar.gz StartedAt: 2025-02-05 08:59:56 -0500 (Wed, 05 Feb 2025) EndedAt: 2025-02-05 09:01:50 -0500 (Wed, 05 Feb 2025) EllapsedTime: 113.5 seconds RetCode: 0 Status: OK PackageFile: SplicingGraphs_1.47.0.zip PackageFileSize: 4.569 MiB