Package: SplicingGraphs Version: 1.47.0 Command: chmod a+r SplicingGraphs -R && E:\biocbuild\bbs-3.21-bioc\R\bin\R.exe CMD build --keep-empty-dirs --no-resave-data SplicingGraphs StartedAt: 2025-02-09 21:51:51 -0500 (Sun, 09 Feb 2025) EndedAt: 2025-02-09 21:55:27 -0500 (Sun, 09 Feb 2025) EllapsedTime: 215.5 seconds RetCode: 0 Status: OK PackageFile: SplicingGraphs_1.47.0.tar.gz PackageFileSize: 45.84 MiB