Package: SplicingGraphs Version: 1.47.0 Command: E:\biocbuild\bbs-3.21-bioc\R\bin\R.exe CMD check --no-multiarch --install=check:SplicingGraphs.install-out.txt --library=E:\biocbuild\bbs-3.21-bioc\R\library --no-vignettes --timings SplicingGraphs_1.47.0.tar.gz StartedAt: 2025-02-10 05:48:04 -0500 (Mon, 10 Feb 2025) EndedAt: 2025-02-10 06:02:42 -0500 (Mon, 10 Feb 2025) EllapsedTime: 878.4 seconds RetCode: 0 Status: WARNINGS CheckDir: SplicingGraphs.Rcheck Warnings: 2