Package: SplineDV Version: 0.99.14 Maintainer: Shreyan Gupta MaintainerEmail: xenon8778 at tamu.edu git_url: https://git.bioconductor.org/packages/SplineDV git_branch: devel git_last_commit: c4a133a git_last_commit_date: 2025-02-07 15:53:57 -0500 (Fri, 07 Feb 2025)