Package: SplineDV Version: 0.99.14 Command: /Library/Frameworks/R.framework/Resources/bin/R CMD build --keep-empty-dirs --no-resave-data SplineDV StartedAt: 2025-02-09 17:42:51 -0500 (Sun, 09 Feb 2025) EndedAt: 2025-02-09 17:44:13 -0500 (Sun, 09 Feb 2025) EllapsedTime: 81.9 seconds RetCode: 0 Status: OK PackageFile: SplineDV_0.99.14.tar.gz PackageFileSize: 2.377 MiB