Package: SplineDV Version: 0.99.14 Command: /Library/Frameworks/R.framework/Resources/bin/R CMD check --install=check:SplineDV.install-out.txt --library=/Library/Frameworks/R.framework/Resources/library --no-vignettes --timings SplineDV_0.99.14.tar.gz StartedAt: 2025-02-09 21:34:12 -0500 (Sun, 09 Feb 2025) EndedAt: 2025-02-09 21:35:28 -0500 (Sun, 09 Feb 2025) EllapsedTime: 76.9 seconds RetCode: 0 Status: OK CheckDir: SplineDV.Rcheck Warnings: 0