Package: SplineDV Version: 0.99.14 Command: /Library/Frameworks/R.framework/Resources/bin/R CMD INSTALL SplineDV StartedAt: 2025-02-09 15:16:20 -0500 (Sun, 09 Feb 2025) EndedAt: 2025-02-09 15:16:31 -0500 (Sun, 09 Feb 2025) EllapsedTime: 10.6 seconds RetCode: 0 Status: OK