Package: SplineDV Version: 0.99.12 Command: /home/biocbuild/R/R/bin/R CMD INSTALL SplineDV StartedAt: 2025-01-29 20:08:08 -0000 (Wed, 29 Jan 2025) EndedAt: 2025-01-29 20:08:45 -0000 (Wed, 29 Jan 2025) EllapsedTime: 37.0 seconds RetCode: 0 Status: OK