Package: SplineDV Version: 0.99.14 Command: rm -rf SplineDV.buildbin-libdir && mkdir SplineDV.buildbin-libdir && /Users/biocbuild/BBS/utils/build-universal.sh SplineDV_0.99.14.tar.gz /Library/Frameworks/R.framework/Resources/bin/R SplineDV.buildbin-libdir StartedAt: 2025-02-10 01:18:41 -0500 (Mon, 10 Feb 2025) EndedAt: 2025-02-10 01:19:20 -0500 (Mon, 10 Feb 2025) EllapsedTime: 39.4 seconds RetCode: 0 Status: OK PackageFile: SplineDV_0.99.14.tgz PackageFileSize: 2.417 MiB