Package: SplineDV Version: 0.99.14 Command: /Library/Frameworks/R.framework/Resources/bin/R CMD INSTALL SplineDV StartedAt: 2025-02-12 15:25:59 -0500 (Wed, 12 Feb 2025) EndedAt: 2025-02-12 15:26:35 -0500 (Wed, 12 Feb 2025) EllapsedTime: 36.2 seconds RetCode: 0 Status: OK