Package: SplineDV Version: 0.99.14 Command: /home/biocbuild/bbs-3.21-bioc/R/bin/R CMD check --install=check:SplineDV.install-out.txt --library=/home/biocbuild/bbs-3.21-bioc/R/site-library --timings SplineDV_0.99.14.tar.gz StartedAt: 2025-02-10 03:01:05 -0500 (Mon, 10 Feb 2025) EndedAt: 2025-02-10 03:07:18 -0500 (Mon, 10 Feb 2025) EllapsedTime: 372.6 seconds RetCode: 0 Status: OK CheckDir: SplineDV.Rcheck Warnings: 0