Package: SplineDV Version: 0.99.14 Command: /home/biocbuild/bbs-3.21-bioc/R/bin/R CMD INSTALL SplineDV StartedAt: 2025-02-09 15:32:03 -0500 (Sun, 09 Feb 2025) EndedAt: 2025-02-09 15:32:29 -0500 (Sun, 09 Feb 2025) EllapsedTime: 26.2 seconds RetCode: 0 Status: OK