Package: SplineDV Version: 0.99.14 Command: rm -rf SplineDV.buildbin-libdir && mkdir SplineDV.buildbin-libdir && E:\biocbuild\bbs-3.21-bioc\R\bin\R.exe CMD INSTALL --build --library=SplineDV.buildbin-libdir SplineDV_0.99.14.tar.gz StartedAt: 2025-02-10 08:47:46 -0500 (Mon, 10 Feb 2025) EndedAt: 2025-02-10 08:48:16 -0500 (Mon, 10 Feb 2025) EllapsedTime: 30.9 seconds RetCode: 0 Status: OK PackageFile: SplineDV_0.99.14.zip PackageFileSize: 2.412 MiB