Package: SplineDV Version: 0.99.14 Command: chmod a+r SplineDV -R && E:\biocbuild\bbs-3.21-bioc\R\bin\R.exe CMD build --keep-empty-dirs --no-resave-data SplineDV StartedAt: 2025-02-12 22:00:05 -0500 (Wed, 12 Feb 2025) EndedAt: 2025-02-12 22:04:11 -0500 (Wed, 12 Feb 2025) EllapsedTime: 246.0 seconds RetCode: 0 Status: OK PackageFile: SplineDV_0.99.14.tar.gz PackageFileSize: 2.377 MiB