Package: SpotSweeper Version: 1.3.3 Command: /Library/Frameworks/R.framework/Resources/bin/R CMD build --keep-empty-dirs --no-resave-data SpotSweeper StartedAt: 2025-02-03 18:19:50 -0500 (Mon, 03 Feb 2025) EndedAt: 2025-02-03 18:20:43 -0500 (Mon, 03 Feb 2025) EllapsedTime: 52.6 seconds RetCode: 0 Status: OK PackageFile: SpotSweeper_1.3.3.tar.gz PackageFileSize: 3.801 MiB