Package: SpotSweeper Version: 1.3.3 Command: /Library/Frameworks/R.framework/Resources/bin/R CMD check --install=check:SpotSweeper.install-out.txt --library=/Library/Frameworks/R.framework/Resources/library --no-vignettes --timings SpotSweeper_1.3.3.tar.gz StartedAt: 2025-02-03 22:11:03 -0500 (Mon, 03 Feb 2025) EndedAt: 2025-02-03 22:13:44 -0500 (Mon, 03 Feb 2025) EllapsedTime: 161.0 seconds RetCode: 0 Status: OK CheckDir: SpotSweeper.Rcheck Warnings: 0