Package: SpotSweeper Version: 1.3.3 Command: /Library/Frameworks/R.framework/Resources/bin/R CMD INSTALL SpotSweeper StartedAt: 2025-02-03 16:00:44 -0500 (Mon, 03 Feb 2025) EndedAt: 2025-02-03 16:00:59 -0500 (Mon, 03 Feb 2025) EllapsedTime: 15.5 seconds RetCode: 0 Status: OK