Package: SpotSweeper Version: 1.3.3 Command: /home/biocbuild/R/R/bin/R CMD build --keep-empty-dirs --no-resave-data SpotSweeper StartedAt: 2025-01-28 02:42:44 -0000 (Tue, 28 Jan 2025) EndedAt: 2025-01-28 02:42:56 -0000 (Tue, 28 Jan 2025) EllapsedTime: 12.0 seconds RetCode: 1 Status: ERROR PackageFile: None PackageFileSize: NA