Package: SpotSweeper Version: 1.3.3 Command: rm -rf SpotSweeper.buildbin-libdir && mkdir SpotSweeper.buildbin-libdir && /Users/biocbuild/BBS/utils/build-universal.sh SpotSweeper_1.3.3.tar.gz /Library/Frameworks/R.framework/Resources/bin/R SpotSweeper.buildbin-libdir StartedAt: 2025-02-10 01:18:47 -0500 (Mon, 10 Feb 2025) EndedAt: 2025-02-10 01:19:41 -0500 (Mon, 10 Feb 2025) EllapsedTime: 54.6 seconds RetCode: 0 Status: OK PackageFile: SpotSweeper_1.3.3.tgz PackageFileSize: 3.831 MiB