Package: SpotSweeper Version: 1.3.3 Command: /Library/Frameworks/R.framework/Resources/bin/R CMD build --keep-empty-dirs --no-resave-data SpotSweeper StartedAt: 2025-02-09 18:36:27 -0500 (Sun, 09 Feb 2025) EndedAt: 2025-02-09 18:39:11 -0500 (Sun, 09 Feb 2025) EllapsedTime: 164.7 seconds RetCode: 0 Status: OK PackageFile: SpotSweeper_1.3.3.tar.gz PackageFileSize: 3.801 MiB